BEGIN:VCALENDAR
VERSION:2.0
PRODID:-//Northeastern University Bachelors Completion - ECPv6.15.19//NONSGML v1.0//EN
CALSCALE:GREGORIAN
METHOD:PUBLISH
X-ORIGINAL-URL:https://bachelors-completion.northeastern.edu
X-WR-CALDESC:Events for Northeastern University Bachelors Completion
REFRESH-INTERVAL;VALUE=DURATION:PT1H
X-Robots-Tag:noindex
X-PUBLISHED-TTL:PT1H
BEGIN:VTIMEZONE
TZID:America/New_York
BEGIN:DAYLIGHT
TZOFFSETFROM:-0500
TZOFFSETTO:-0400
TZNAME:EDT
DTSTART:20250309T070000
END:DAYLIGHT
BEGIN:STANDARD
TZOFFSETFROM:-0400
TZOFFSETTO:-0500
TZNAME:EST
DTSTART:20251102T060000
END:STANDARD
BEGIN:DAYLIGHT
TZOFFSETFROM:-0500
TZOFFSETTO:-0400
TZNAME:EDT
DTSTART:20260308T070000
END:DAYLIGHT
BEGIN:STANDARD
TZOFFSETFROM:-0400
TZOFFSETTO:-0500
TZNAME:EST
DTSTART:20261101T060000
END:STANDARD
BEGIN:DAYLIGHT
TZOFFSETFROM:-0500
TZOFFSETTO:-0400
TZNAME:EDT
DTSTART:20270314T070000
END:DAYLIGHT
BEGIN:STANDARD
TZOFFSETFROM:-0400
TZOFFSETTO:-0500
TZNAME:EST
DTSTART:20271107T060000
END:STANDARD
END:VTIMEZONE
BEGIN:VEVENT
DTSTART;TZID=America/New_York:20260714T120000
DTEND;TZID=America/New_York:20260714T130000
DTSTAMP:20260425T023919
CREATED:20260303T163124Z
LAST-MODIFIED:20260303T163132Z
UID:10000461-1784030400-1784034000@bachelors-completion.northeastern.edu
SUMMARY:Virtual Information Session: Bachelor’s Degree Programs
DESCRIPTION:Deciding to finish your degree is a big step that often leads to many questions. You may be contemplating what university or degree path is the right fit for your goals\, as well as determining whether in person\, hybrid\, or fully online is the right choice for your lifestyle.\n\nOur bachelor’s degree completion programs are designed to help you derive the most value from your prior educational and work experience and earn your degree faster and more efficiently\, significantly reducing the time and investment required. Northeastern offers programs that are aligned with market trends\, which can directly translate into additional job opportunities and more income earned over time.\n\nJoin us for an upcoming virtual information session\, which will provide an opportunity to gain hands-on guidance on topics such as: \n\nAvailable bachelor’s degree programs.\nCourse offerings: online\, in person\, or a combination of the two.\nBenefits of co-op and Experiential Network projects.\nInformation on transferring credits.\nApplication process and fees. \nAvailable scholarships up to $10\,000.
URL:https://bachelors-completion.northeastern.edu/event/virtual-information-session-bachelors-degree-programs-7/
LOCATION:Online
CATEGORIES:Information Session
END:VEVENT
BEGIN:VEVENT
DTSTART;TZID=America/New_York:20260714T190000
DTEND;TZID=America/New_York:20260714T200000
DTSTAMP:20260425T023919
CREATED:20260316T142936Z
LAST-MODIFIED:20260316T142936Z
UID:10000472-1784055600-1784059200@bachelors-completion.northeastern.edu
SUMMARY:Application Success Workshop
DESCRIPTION:During our Bachelor’s Completion Application Success Workshops\, you’ll receive personalized\, hands-on support to help you take your next steps.
URL:https://bachelors-completion.northeastern.edu/event/application-success-workshop-7/
LOCATION:Online
CATEGORIES:Application Success Workshop
END:VEVENT
BEGIN:VEVENT
DTSTART;TZID=America/New_York:20260715T080000
DTEND;TZID=America/New_York:20260715T090000
DTSTAMP:20260425T023919
CREATED:20260303T163339Z
LAST-MODIFIED:20260303T163339Z
UID:10000462-1784102400-1784106000@bachelors-completion.northeastern.edu
SUMMARY:Virtual Information Session: Bachelor’s Degree Programs
DESCRIPTION:Deciding to finish your degree is a big step that often leads to many questions. You may be contemplating what university or degree path is the right fit for your goals\, as well as determining whether in person\, hybrid\, or fully online is the right choice for your lifestyle.\n\nOur bachelor’s degree completion programs are designed to help you derive the most value from your prior educational and work experience and earn your degree faster and more efficiently\, significantly reducing the time and investment required. Northeastern offers programs that are aligned with market trends\, which can directly translate into additional job opportunities and more income earned over time.\n\nJoin us for an upcoming virtual information session\, which will provide an opportunity to gain hands-on guidance on topics such as: \n\nAvailable bachelor’s degree programs.\nCourse offerings: online\, in person\, or a combination of the two.\nBenefits of co-op and Experiential Network projects.\nInformation on transferring credits.\nApplication process and fees. \nAvailable scholarships up to $10\,000.
URL:https://bachelors-completion.northeastern.edu/event/virtual-information-session-bachelors-degree-programs-8/
LOCATION:Online
CATEGORIES:Information Session
END:VEVENT
BEGIN:VEVENT
DTSTART;TZID=America/New_York:20260716T120000
DTEND;TZID=America/New_York:20260716T130000
DTSTAMP:20260425T023919
CREATED:20260316T143057Z
LAST-MODIFIED:20260316T143057Z
UID:10000473-1784203200-1784206800@bachelors-completion.northeastern.edu
SUMMARY:Application Success Workshop
DESCRIPTION:During our Bachelor’s Completion Application Success Workshops\, you’ll receive personalized\, hands-on support to help you take your next steps.
URL:https://bachelors-completion.northeastern.edu/event/application-success-workshop-8/
LOCATION:Online
CATEGORIES:Application Success Workshop
END:VEVENT
END:VCALENDAR